BEGIN:VCALENDAR
VERSION:2.0
PRODID:-//Whitmore High School - ECPv5.2.0//NONSGML v1.0//EN
CALSCALE:GREGORIAN
METHOD:PUBLISH
X-WR-CALNAME:Whitmore High School
X-ORIGINAL-URL:https://www.whitmorehigh.org
X-WR-CALDESC:Events for Whitmore High School
BEGIN:VTIMEZONE
TZID:Europe/London
BEGIN:DAYLIGHT
TZOFFSETFROM:+0000
TZOFFSETTO:+0100
TZNAME:BST
DTSTART:20210328T010000
END:DAYLIGHT
BEGIN:STANDARD
TZOFFSETFROM:+0100
TZOFFSETTO:+0000
TZNAME:GMT
DTSTART:20211031T010000
END:STANDARD
END:VTIMEZONE
BEGIN:VEVENT
DTSTART;TZID=Europe/London:20210810T090000
DTEND;TZID=Europe/London:20210810T120000
DTSTAMP:20260421T060537
CREATED:20210726T110016Z
LAST-MODIFIED:20210726T110016Z
UID:5792-1628586000-1628596800@www.whitmorehigh.org
SUMMARY:A2 & AS Result Day
DESCRIPTION:Year 13 – 9am – 12pm \nYear 12 10am – 12pm
URL:https://www.whitmorehigh.org/event/a2-as-result-day/
END:VEVENT
END:VCALENDAR