BEGIN:VCALENDAR
VERSION:2.0
PRODID:-//Whitmore High School - ECPv5.2.0//NONSGML v1.0//EN
CALSCALE:GREGORIAN
METHOD:PUBLISH
X-WR-CALNAME:Whitmore High School
X-ORIGINAL-URL:https://www.whitmorehigh.org
X-WR-CALDESC:Events for Whitmore High School
BEGIN:VTIMEZONE
TZID:Europe/London
BEGIN:DAYLIGHT
TZOFFSETFROM:+0000
TZOFFSETTO:+0100
TZNAME:BST
DTSTART:20210328T010000
END:DAYLIGHT
BEGIN:STANDARD
TZOFFSETFROM:+0100
TZOFFSETTO:+0000
TZNAME:GMT
DTSTART:20211031T010000
END:STANDARD
END:VTIMEZONE
BEGIN:VEVENT
DTSTART;TZID=Europe/London:20211208T190000
DTEND;TZID=Europe/London:20211208T203000
DTSTAMP:20260422T031422
CREATED:20211129T104924Z
LAST-MODIFIED:20211130T122849Z
UID:5961-1638990000-1638995400@www.whitmorehigh.org
SUMMARY:Carol Concert
DESCRIPTION:Carol Service at Whitmore High School. Click here for information and to book your tickets
URL:https://www.whitmorehigh.org/event/carol-concert/
END:VEVENT
END:VCALENDAR