BEGIN:VCALENDAR
VERSION:2.0
PRODID:-//Whitmore High School - ECPv5.2.0//NONSGML v1.0//EN
CALSCALE:GREGORIAN
METHOD:PUBLISH
X-WR-CALNAME:Whitmore High School
X-ORIGINAL-URL:https://www.whitmorehigh.org
X-WR-CALDESC:Events for Whitmore High School
BEGIN:VTIMEZONE
TZID:Europe/London
BEGIN:DAYLIGHT
TZOFFSETFROM:+0000
TZOFFSETTO:+0100
TZNAME:BST
DTSTART:20200329T010000
END:DAYLIGHT
BEGIN:STANDARD
TZOFFSETFROM:+0100
TZOFFSETTO:+0000
TZNAME:GMT
DTSTART:20201025T010000
END:STANDARD
BEGIN:DAYLIGHT
TZOFFSETFROM:+0000
TZOFFSETTO:+0100
TZNAME:BST
DTSTART:20210328T010000
END:DAYLIGHT
BEGIN:STANDARD
TZOFFSETFROM:+0100
TZOFFSETTO:+0000
TZNAME:GMT
DTSTART:20211031T010000
END:STANDARD
END:VTIMEZONE
BEGIN:VEVENT
DTSTART;TZID=Europe/London:20201221T080000
DTEND;TZID=Europe/London:20210101T170000
DTSTAMP:20260420T145039
CREATED:20201214T071133Z
LAST-MODIFIED:20201214T071133Z
UID:5364-1608537600-1609520400@www.whitmorehigh.org
SUMMARY:Christmas Holidays
DESCRIPTION:
URL:https://www.whitmorehigh.org/event/christmas-holidays-3/
ATTACH;FMTTYPE=image/jpeg:https://www.whitmorehigh.org/wp-content/uploads/2019/12/merry-christmas-calligraphy-with-baubles_1262-7024.jpg
END:VEVENT
END:VCALENDAR