BEGIN:VCALENDAR
VERSION:2.0
PRODID:-//Whitmore High School - ECPv5.2.0//NONSGML v1.0//EN
CALSCALE:GREGORIAN
METHOD:PUBLISH
X-WR-CALNAME:Whitmore High School
X-ORIGINAL-URL:https://www.whitmorehigh.org
X-WR-CALDESC:Events for Whitmore High School
BEGIN:VTIMEZONE
TZID:Europe/London
BEGIN:DAYLIGHT
TZOFFSETFROM:+0000
TZOFFSETTO:+0100
TZNAME:BST
DTSTART:20210328T010000
END:DAYLIGHT
BEGIN:STANDARD
TZOFFSETFROM:+0100
TZOFFSETTO:+0000
TZNAME:GMT
DTSTART:20211031T010000
END:STANDARD
END:VTIMEZONE
BEGIN:VEVENT
DTSTART;TZID=Europe/London:20211216T190000
DTEND;TZID=Europe/London:20211216T213000
DTSTAMP:20260422T135336
CREATED:20211115T131911Z
LAST-MODIFIED:20211115T131911Z
UID:5944-1639681200-1639690200@www.whitmorehigh.org
SUMMARY:Christmas Production
DESCRIPTION:Disney’s Teen Beach Musical – click here to buy tickets
URL:https://www.whitmorehigh.org/event/christmas-production-4/
END:VEVENT
END:VCALENDAR