BEGIN:VCALENDAR
VERSION:2.0
PRODID:-//Whitmore High School - ECPv5.2.0//NONSGML v1.0//EN
CALSCALE:GREGORIAN
METHOD:PUBLISH
X-WR-CALNAME:Whitmore High School
X-ORIGINAL-URL:https://www.whitmorehigh.org
X-WR-CALDESC:Events for Whitmore High School
BEGIN:VTIMEZONE
TZID:Europe/London
BEGIN:DAYLIGHT
TZOFFSETFROM:+0000
TZOFFSETTO:+0100
TZNAME:BST
DTSTART:20230326T010000
END:DAYLIGHT
BEGIN:STANDARD
TZOFFSETFROM:+0100
TZOFFSETTO:+0000
TZNAME:GMT
DTSTART:20231029T010000
END:STANDARD
END:VTIMEZONE
BEGIN:VEVENT
DTSTART;TZID=Europe/London:20230403T080000
DTEND;TZID=Europe/London:20230414T170000
DTSTAMP:20260420T054301
CREATED:20230109T093656Z
LAST-MODIFIED:20230109T095142Z
UID:6575-1680508800-1681491600@www.whitmorehigh.org
SUMMARY:Easter Holidays 2022/23
DESCRIPTION:
URL:https://www.whitmorehigh.org/event/easter-holidays-2022-23/
ATTACH;FMTTYPE=image/jpeg:https://www.whitmorehigh.org/wp-content/uploads/2023/01/Easter-2.jpg
END:VEVENT
END:VCALENDAR