BEGIN:VCALENDAR
VERSION:2.0
PRODID:-//Whitmore High School - ECPv5.2.0//NONSGML v1.0//EN
CALSCALE:GREGORIAN
METHOD:PUBLISH
X-WR-CALNAME:Whitmore High School
X-ORIGINAL-URL:https://www.whitmorehigh.org
X-WR-CALDESC:Events for Whitmore High School
BEGIN:VTIMEZONE
TZID:Europe/London
BEGIN:DAYLIGHT
TZOFFSETFROM:+0000
TZOFFSETTO:+0100
TZNAME:BST
DTSTART:20210328T010000
END:DAYLIGHT
BEGIN:STANDARD
TZOFFSETFROM:+0100
TZOFFSETTO:+0000
TZNAME:GMT
DTSTART:20211031T010000
END:STANDARD
END:VTIMEZONE
BEGIN:VEVENT
DTSTART;TZID=Europe/London:20211217T144500
DTEND;TZID=Europe/London:20211217T144500
DTSTAMP:20260422T123451
CREATED:20210628T054448Z
LAST-MODIFIED:20211124T150053Z
UID:5683-1639752300-1639752300@www.whitmorehigh.org
SUMMARY:End of Autumn Term 2021/22
DESCRIPTION:
URL:https://www.whitmorehigh.org/event/end-of-autumn-term/
END:VEVENT
END:VCALENDAR