BEGIN:VCALENDAR
VERSION:2.0
PRODID:-//Whitmore High School - ECPv5.2.0//NONSGML v1.0//EN
CALSCALE:GREGORIAN
METHOD:PUBLISH
X-WR-CALNAME:Whitmore High School
X-ORIGINAL-URL:https://www.whitmorehigh.org
X-WR-CALDESC:Events for Whitmore High School
BEGIN:VTIMEZONE
TZID:Europe/London
BEGIN:DAYLIGHT
TZOFFSETFROM:+0000
TZOFFSETTO:+0100
TZNAME:BST
DTSTART:20180325T010000
END:DAYLIGHT
BEGIN:STANDARD
TZOFFSETFROM:+0100
TZOFFSETTO:+0000
TZNAME:GMT
DTSTART:20181028T010000
END:STANDARD
END:VTIMEZONE
BEGIN:VEVENT
DTSTART;TZID=Europe/London:20181106T090000
DTEND;TZID=Europe/London:20181106T104500
DTSTAMP:20260420T111139
CREATED:20181018T064801Z
LAST-MODIFIED:20181105T115146Z
UID:881-1541494800-1541501100@www.whitmorehigh.org
SUMMARY:GCSE Numeracy Paper 1
DESCRIPTION:November 2018 GCSE Timetable
URL:https://www.whitmorehigh.org/event/gcse-numeracy-paper-1/
LOCATION:Whitmore High School\, Whitmore High School\, Port Road West\, Barry\, Vale of Glamorgan\, CF62 8ZJ\, United Kingdom
END:VEVENT
END:VCALENDAR