BEGIN:VCALENDAR
VERSION:2.0
PRODID:-//Whitmore High School - ECPv5.2.0//NONSGML v1.0//EN
CALSCALE:GREGORIAN
METHOD:PUBLISH
X-WR-CALNAME:Whitmore High School
X-ORIGINAL-URL:https://www.whitmorehigh.org
X-WR-CALDESC:Events for Whitmore High School
BEGIN:VTIMEZONE
TZID:Europe/London
BEGIN:DAYLIGHT
TZOFFSETFROM:+0000
TZOFFSETTO:+0100
TZNAME:BST
DTSTART:20230326T010000
END:DAYLIGHT
BEGIN:STANDARD
TZOFFSETFROM:+0100
TZOFFSETTO:+0000
TZNAME:GMT
DTSTART:20231029T010000
END:STANDARD
END:VTIMEZONE
BEGIN:VEVENT
DTSTART;TZID=Europe/London:20230824T090000
DTEND;TZID=Europe/London:20230824T120000
DTSTAMP:20260420T061024
CREATED:20230726T131103Z
LAST-MODIFIED:20230726T131323Z
UID:6775-1692867600-1692878400@www.whitmorehigh.org
SUMMARY:GCSE Results Day 2022/23
DESCRIPTION:Year 11 9:00am – 12:00pm\nYear 10 10:00am – 12:00pm
URL:https://www.whitmorehigh.org/event/gcse-results-day/
END:VEVENT
END:VCALENDAR