BEGIN:VCALENDAR
VERSION:2.0
PRODID:-//Whitmore High School - ECPv5.2.0//NONSGML v1.0//EN
CALSCALE:GREGORIAN
METHOD:PUBLISH
X-WR-CALNAME:Whitmore High School
X-ORIGINAL-URL:https://www.whitmorehigh.org
X-WR-CALDESC:Events for Whitmore High School
BEGIN:VTIMEZONE
TZID:Europe/London
BEGIN:DAYLIGHT
TZOFFSETFROM:+0000
TZOFFSETTO:+0100
TZNAME:BST
DTSTART:20210328T010000
END:DAYLIGHT
BEGIN:STANDARD
TZOFFSETFROM:+0100
TZOFFSETTO:+0000
TZNAME:GMT
DTSTART:20211031T010000
END:STANDARD
END:VTIMEZONE
BEGIN:VEVENT
DTSTART;TZID=Europe/London:20210906T084000
DTEND;TZID=Europe/London:20210906T154500
DTSTAMP:20260421T042316
CREATED:20210726T081037Z
LAST-MODIFIED:20210726T081646Z
UID:5757-1630917600-1630943100@www.whitmorehigh.org
SUMMARY:Inset Day 2 2021/22
DESCRIPTION:
URL:https://www.whitmorehigh.org/event/inset-day-2-2021-22/
END:VEVENT
END:VCALENDAR