BEGIN:VCALENDAR
VERSION:2.0
PRODID:-//Whitmore High School - ECPv5.2.0//NONSGML v1.0//EN
CALSCALE:GREGORIAN
METHOD:PUBLISH
X-WR-CALNAME:Whitmore High School
X-ORIGINAL-URL:https://www.whitmorehigh.org
X-WR-CALDESC:Events for Whitmore High School
BEGIN:VTIMEZONE
TZID:Europe/London
BEGIN:DAYLIGHT
TZOFFSETFROM:+0000
TZOFFSETTO:+0100
TZNAME:BST
DTSTART:20190331T010000
END:DAYLIGHT
BEGIN:STANDARD
TZOFFSETFROM:+0100
TZOFFSETTO:+0000
TZNAME:GMT
DTSTART:20191027T010000
END:STANDARD
END:VTIMEZONE
BEGIN:VEVENT
DTSTART;TZID=Europe/London:20190722T080000
DTEND;TZID=Europe/London:20190722T170000
DTSTAMP:20260420T123210
CREATED:20180925T111550Z
LAST-MODIFIED:20190531T102141Z
UID:624-1563782400-1563814800@www.whitmorehigh.org
SUMMARY:Inset Day
DESCRIPTION:
URL:https://www.whitmorehigh.org/event/inset-day-5/
CATEGORIES:Inset Days
END:VEVENT
END:VCALENDAR