BEGIN:VCALENDAR
VERSION:2.0
PRODID:-//Whitmore High School - ECPv5.2.0//NONSGML v1.0//EN
CALSCALE:GREGORIAN
METHOD:PUBLISH
X-WR-CALNAME:Whitmore High School
X-ORIGINAL-URL:https://www.whitmorehigh.org
X-WR-CALDESC:Events for Whitmore High School
BEGIN:VTIMEZONE
TZID:Europe/London
BEGIN:DAYLIGHT
TZOFFSETFROM:+0000
TZOFFSETTO:+0100
TZNAME:BST
DTSTART:20210328T010000
END:DAYLIGHT
BEGIN:STANDARD
TZOFFSETFROM:+0100
TZOFFSETTO:+0000
TZNAME:GMT
DTSTART:20211031T010000
END:STANDARD
END:VTIMEZONE
BEGIN:VEVENT
DTSTART;TZID=Europe/London:20211110T090000
DTEND;TZID=Europe/London:20211110T103500
DTSTAMP:20260421T182902
CREATED:20211101T131547Z
LAST-MODIFIED:20211102T104442Z
UID:5912-1636534800-1636540500@www.whitmorehigh.org
SUMMARY:Mathematics Paper 2 Exam 2021
DESCRIPTION:1hour 35mins
URL:https://www.whitmorehigh.org/event/mathematics-paper-2-exam/
END:VEVENT
END:VCALENDAR