BEGIN:VCALENDAR
VERSION:2.0
PRODID:-//Whitmore High School - ECPv5.2.0//NONSGML v1.0//EN
CALSCALE:GREGORIAN
METHOD:PUBLISH
X-WR-CALNAME:Whitmore High School
X-ORIGINAL-URL:https://www.whitmorehigh.org
X-WR-CALDESC:Events for Whitmore High School
BEGIN:VTIMEZONE
TZID:Europe/London
BEGIN:DAYLIGHT
TZOFFSETFROM:+0000
TZOFFSETTO:+0100
TZNAME:BST
DTSTART:20210328T010000
END:DAYLIGHT
BEGIN:STANDARD
TZOFFSETFROM:+0100
TZOFFSETTO:+0000
TZNAME:GMT
DTSTART:20211031T010000
END:STANDARD
END:VTIMEZONE
BEGIN:VEVENT
DTSTART;TZID=Europe/London:20210907T084000
DTEND;TZID=Europe/London:20210907T084000
DTSTAMP:20260421T055137
CREATED:20210726T083602Z
LAST-MODIFIED:20210726T085430Z
UID:5779-1631004000-1631004000@www.whitmorehigh.org
SUMMARY:Start of Autumn Term 2021/22
DESCRIPTION:For Year 7\, 11\, 12 & 13
URL:https://www.whitmorehigh.org/event/start-of-term-2021-22/
END:VEVENT
END:VCALENDAR