BEGIN:VCALENDAR
VERSION:2.0
PRODID:-//Whitmore High School - ECPv5.2.0//NONSGML v1.0//EN
CALSCALE:GREGORIAN
METHOD:PUBLISH
X-WR-CALNAME:Whitmore High School
X-ORIGINAL-URL:https://www.whitmorehigh.org
X-WR-CALDESC:Events for Whitmore High School
BEGIN:VTIMEZONE
TZID:Europe/London
BEGIN:DAYLIGHT
TZOFFSETFROM:+0000
TZOFFSETTO:+0100
TZNAME:BST
DTSTART:20230326T010000
END:DAYLIGHT
BEGIN:STANDARD
TZOFFSETFROM:+0100
TZOFFSETTO:+0000
TZNAME:GMT
DTSTART:20231029T010000
END:STANDARD
END:VTIMEZONE
BEGIN:VEVENT
DTSTART;TZID=Europe/London:20230725T084000
DTEND;TZID=Europe/London:20230902T170000
DTSTAMP:20260419T235203
CREATED:20230109T095810Z
LAST-MODIFIED:20230109T100316Z
UID:6606-1690274400-1693674000@www.whitmorehigh.org
SUMMARY:Summer Holidays 2023
DESCRIPTION:
URL:https://www.whitmorehigh.org/event/summer-holidays-2023/
ATTACH;FMTTYPE=image/jpeg:https://www.whitmorehigh.org/wp-content/uploads/2021/06/download-4.jpg
END:VEVENT
END:VCALENDAR