BEGIN:VCALENDAR
VERSION:2.0
PRODID:-//Whitmore High School - ECPv5.2.0//NONSGML v1.0//EN
CALSCALE:GREGORIAN
METHOD:PUBLISH
X-WR-CALNAME:Whitmore High School
X-ORIGINAL-URL:https://www.whitmorehigh.org
X-WR-CALDESC:Events for Whitmore High School
BEGIN:VTIMEZONE
TZID:Europe/London
BEGIN:DAYLIGHT
TZOFFSETFROM:+0000
TZOFFSETTO:+0100
TZNAME:BST
DTSTART:20200329T010000
END:DAYLIGHT
BEGIN:STANDARD
TZOFFSETFROM:+0100
TZOFFSETTO:+0000
TZNAME:GMT
DTSTART:20201025T010000
END:STANDARD
END:VTIMEZONE
BEGIN:VEVENT
DTSTART;TZID=Europe/London:20200109T163000
DTEND;TZID=Europe/London:20200109T183000
DTSTAMP:20260420T111313
CREATED:20200108T134953Z
LAST-MODIFIED:20200108T135004Z
UID:2435-1578587400-1578594600@www.whitmorehigh.org
SUMMARY:Year 10 Parents Evening
DESCRIPTION:
URL:https://www.whitmorehigh.org/event/year-10-parents-evening-2/
CATEGORIES:Parents Evening
END:VEVENT
END:VCALENDAR