BEGIN:VCALENDAR
VERSION:2.0
PRODID:-//Whitmore High School - ECPv5.2.0//NONSGML v1.0//EN
CALSCALE:GREGORIAN
METHOD:PUBLISH
X-WR-CALNAME:Whitmore High School
X-ORIGINAL-URL:https://www.whitmorehigh.org
X-WR-CALDESC:Events for Whitmore High School
BEGIN:VTIMEZONE
TZID:Europe/London
BEGIN:DAYLIGHT
TZOFFSETFROM:+0000
TZOFFSETTO:+0100
TZNAME:BST
DTSTART:20230326T010000
END:DAYLIGHT
BEGIN:STANDARD
TZOFFSETFROM:+0100
TZOFFSETTO:+0000
TZNAME:GMT
DTSTART:20231029T010000
END:STANDARD
END:VTIMEZONE
BEGIN:VEVENT
DTSTART;TZID=Europe/London:20230323T160000
DTEND;TZID=Europe/London:20230323T183000
DTSTAMP:20260420T085033
CREATED:20230109T091537Z
LAST-MODIFIED:20230227T092436Z
UID:6570-1679587200-1679596200@www.whitmorehigh.org
SUMMARY:Year 10 Progress Evening 2022/23
DESCRIPTION:
URL:https://www.whitmorehigh.org/event/year-10-progress-evening-2022-23/
END:VEVENT
END:VCALENDAR