BEGIN:VCALENDAR
VERSION:2.0
PRODID:-//Whitmore High School - ECPv5.2.0//NONSGML v1.0//EN
CALSCALE:GREGORIAN
METHOD:PUBLISH
X-WR-CALNAME:Whitmore High School
X-ORIGINAL-URL:https://www.whitmorehigh.org
X-WR-CALDESC:Events for Whitmore High School
BEGIN:VTIMEZONE
TZID:Europe/London
BEGIN:DAYLIGHT
TZOFFSETFROM:+0000
TZOFFSETTO:+0100
TZNAME:BST
DTSTART:20230326T010000
END:DAYLIGHT
BEGIN:STANDARD
TZOFFSETFROM:+0100
TZOFFSETTO:+0000
TZNAME:GMT
DTSTART:20231029T010000
END:STANDARD
END:VTIMEZONE
BEGIN:VEVENT
DTSTART;TZID=Europe/London:20230914T160000
DTEND;TZID=Europe/London:20230914T183000
DTSTAMP:20260420T220740
CREATED:20230726T130740Z
LAST-MODIFIED:20230726T130740Z
UID:6770-1694707200-1694716200@www.whitmorehigh.org
SUMMARY:Year 10 Transition Progress Evening 2023/24
DESCRIPTION:Time to be confirmed
URL:https://www.whitmorehigh.org/event/year-10-transition-progress-evening-2023-24/
END:VEVENT
END:VCALENDAR