BEGIN:VCALENDAR
VERSION:2.0
PRODID:-//Whitmore High School - ECPv5.2.0//NONSGML v1.0//EN
CALSCALE:GREGORIAN
METHOD:PUBLISH
X-WR-CALNAME:Whitmore High School
X-ORIGINAL-URL:https://www.whitmorehigh.org
X-WR-CALDESC:Events for Whitmore High School
BEGIN:VTIMEZONE
TZID:Europe/London
BEGIN:DAYLIGHT
TZOFFSETFROM:+0000
TZOFFSETTO:+0100
TZNAME:BST
DTSTART:20220327T010000
END:DAYLIGHT
BEGIN:STANDARD
TZOFFSETFROM:+0100
TZOFFSETTO:+0000
TZNAME:GMT
DTSTART:20221030T010000
END:STANDARD
END:VTIMEZONE
BEGIN:VEVENT
DTSTART;TZID=Europe/London:20221208T160000
DTEND;TZID=Europe/London:20221208T170000
DTSTAMP:20260424T230212
CREATED:20220913T113620Z
LAST-MODIFIED:20221019T093232Z
UID:6417-1670515200-1670518800@www.whitmorehigh.org
SUMMARY:Year 12/13 Progress Evening 2022/23
DESCRIPTION:Time TBC
URL:https://www.whitmorehigh.org/event/year-12-13-progress-evening/
LOCATION:Pencoedtre High School\, Pencoedtre High School\, Merthyr Dyfan Road\, Barry\, Vale of Glamorgan\, CF62 9YQ\, United Kingdom
END:VEVENT
END:VCALENDAR