BEGIN:VCALENDAR
VERSION:2.0
PRODID:-//Whitmore High School - ECPv5.2.0//NONSGML v1.0//EN
CALSCALE:GREGORIAN
METHOD:PUBLISH
X-WR-CALNAME:Whitmore High School
X-ORIGINAL-URL:https://www.whitmorehigh.org
X-WR-CALDESC:Events for Whitmore High School
BEGIN:VTIMEZONE
TZID:Europe/London
BEGIN:DAYLIGHT
TZOFFSETFROM:+0000
TZOFFSETTO:+0100
TZNAME:BST
DTSTART:20190331T010000
END:DAYLIGHT
BEGIN:STANDARD
TZOFFSETFROM:+0100
TZOFFSETTO:+0000
TZNAME:GMT
DTSTART:20191027T010000
END:STANDARD
END:VTIMEZONE
BEGIN:VEVENT
DTSTART;TZID=Europe/London:20190509T163000
DTEND;TZID=Europe/London:20190509T183000
DTSTAMP:20260419T182703
CREATED:20181105T093739Z
LAST-MODIFIED:20190107T111802Z
UID:944-1557419400-1557426600@www.whitmorehigh.org
SUMMARY:Year 7 Parents Evening
DESCRIPTION:
URL:https://www.whitmorehigh.org/event/year-7-parents-evening/
CATEGORIES:Parents Evening
END:VEVENT
END:VCALENDAR