BEGIN:VCALENDAR
VERSION:2.0
PRODID:-//Whitmore High School - ECPv5.2.0//NONSGML v1.0//EN
CALSCALE:GREGORIAN
METHOD:PUBLISH
X-WR-CALNAME:Whitmore High School
X-ORIGINAL-URL:https://www.whitmorehigh.org
X-WR-CALDESC:Events for Whitmore High School
BEGIN:VTIMEZONE
TZID:Europe/London
BEGIN:DAYLIGHT
TZOFFSETFROM:+0000
TZOFFSETTO:+0100
TZNAME:BST
DTSTART:20200329T010000
END:DAYLIGHT
BEGIN:STANDARD
TZOFFSETFROM:+0100
TZOFFSETTO:+0000
TZNAME:GMT
DTSTART:20201025T010000
END:STANDARD
END:VTIMEZONE
BEGIN:VEVENT
DTSTART;TZID=Europe/London:20200206T163000
DTEND;TZID=Europe/London:20200206T183000
DTSTAMP:20260420T111349
CREATED:20200110T085508Z
LAST-MODIFIED:20200110T085508Z
UID:2460-1581006600-1581013800@www.whitmorehigh.org
SUMMARY:Year 9 Parents Evening 2020
DESCRIPTION:
URL:https://www.whitmorehigh.org/event/year-9-parents-evening-2020/
CATEGORIES:Parents Evening
END:VEVENT
END:VCALENDAR