BEGIN:VCALENDAR
VERSION:2.0
PRODID:-//Whitmore High School - ECPv5.2.0//NONSGML v1.0//EN
CALSCALE:GREGORIAN
METHOD:PUBLISH
X-WR-CALNAME:Whitmore High School
X-ORIGINAL-URL:https://www.whitmorehigh.org
X-WR-CALDESC:Events for Whitmore High School
BEGIN:VTIMEZONE
TZID:Europe/London
BEGIN:DAYLIGHT
TZOFFSETFROM:+0000
TZOFFSETTO:+0100
TZNAME:BST
DTSTART:20220327T010000
END:DAYLIGHT
BEGIN:STANDARD
TZOFFSETFROM:+0100
TZOFFSETTO:+0000
TZNAME:GMT
DTSTART:20221030T010000
END:STANDARD
END:VTIMEZONE
BEGIN:VEVENT
DTSTART;TZID=Europe/London:20220127T153000
DTEND;TZID=Europe/London:20220127T183000
DTSTAMP:20260420T213620
CREATED:20220124T103255Z
LAST-MODIFIED:20220124T104913Z
UID:6030-1643297400-1643308200@www.whitmorehigh.org
SUMMARY:Year 9 Parents Evening 2021/22
DESCRIPTION:Link to make appointments – click here
URL:https://www.whitmorehigh.org/event/year-9-parents-evening-2022/
END:VEVENT
END:VCALENDAR