BEGIN:VCALENDAR
VERSION:2.0
PRODID:-//Whitmore High School - ECPv5.2.0//NONSGML v1.0//EN
CALSCALE:GREGORIAN
METHOD:PUBLISH
X-WR-CALNAME:Whitmore High School
X-ORIGINAL-URL:https://www.whitmorehigh.org
X-WR-CALDESC:Events for Whitmore High School
BEGIN:VTIMEZONE
TZID:Europe/London
BEGIN:DAYLIGHT
TZOFFSETFROM:+0000
TZOFFSETTO:+0100
TZNAME:BST
DTSTART:20190331T010000
END:DAYLIGHT
BEGIN:STANDARD
TZOFFSETFROM:+0100
TZOFFSETTO:+0000
TZNAME:GMT
DTSTART:20191027T010000
END:STANDARD
END:VTIMEZONE
BEGIN:VEVENT
DTSTART;TZID=Europe/London:20190131T163000
DTEND;TZID=Europe/London:20190131T183000
DTSTAMP:20260422T014010
CREATED:20181105T093505Z
LAST-MODIFIED:20190613T103751Z
UID:940-1548952200-1548959400@www.whitmorehigh.org
SUMMARY:Year 9 Parents Evening - POSTPONED
DESCRIPTION:Given the current amber warning for the local/regional weather this afternoon into this evening\, we have taken the reluctant decision to POSTPONE tonight’s year 9 parents evening. \nThis is to ensure the travel safety & well-being of families and staff. A further date will be confirmed ASAP
URL:https://www.whitmorehigh.org/event/year-9-parents-evening/
CATEGORIES:Parents Evening
END:VEVENT
END:VCALENDAR